BEGIN:VCALENDAR
VERSION:2.0
PRODID:-//hacksw/handcal//NONSGML v1.0//EN
BEGIN:VEVENT
SUMMARY:le Collet St-Andre depuis le bord du Var
UID:b063f0eb-8b18-40f4-9936-3f0c65bf74e6
DTSTART:20260306T070000Z
DTEND:20260306T170000Z
LOCATION:Localisation   
CATEGORIES:Sportif
STATUS:
DESCRIPTION:<p><span style="font-size:12pt;"><span><span><b>Distance:
 11,5 km ; Denivele : 750 m</b></span></span></span></p>
 
 <p>Pour la
 randonnee sportive du mois, nous n'aurons pas besoin d'aller bien
 loin puisque, partant du bord du Var, nous monterons en direction de
 Bonson par l'ancien chemien muletier (les Anciens avaient bien du
 courage !). Nous contournerons le village a l'aller pour rejoindre la
 Chapelle Saint-Roch puis le nid d'aigle du Collet
 Saint-Andre. <br>
 Le vent, peut-etre fort, et les derniers metres
 dans les rochers feront que nous ne dejeunerons certainement pas au
 sommet mais plus bas en direction du village de Bonson, que nous
 visiterons ainsi que l'eglise Saint-Benoit aux retables du XVIe
 siecle.<br>
 Apres avoir profite de la vue vertigineuse sur les
 vallees du Var et de la Vesubie, nous plongerons ensuite dans la
 vallee pour rejoindre les voitures.</p>
 
 <p><em>Jusqu'a la
 construction de la route menant a Puget-Theniers en longeant le Var,
 les voyageurs souhaitant aller de Nice a Puget-Theniers devaient
 passer par Aspremont, Castagniers, Saint-Martin-du-Var et
 franchissaient le Var sur les epaules d'un habitant ou sur une
 barque, puis grimpaient jusqu'a Bonson qui etait un village d'etape,
 et continuaient par Revest-les-Roches, Toudon, Ascros et
 Puget-Theniers. De Bonson, on pouvait remonter l'Esteron. De
 Puget-Theniers, on accedait au val d'Entraunes. En 1675, les
 habitants demandent la construction du pont de Bonson, sur le Var, en
 1675. Le seigneur de Gilette, qui possedait le droit de barque sur le
 passage du Var, s'opposa a cette construction. Le gouverneur de Nice,
 Antoine de Savoie, y est favorable pour ameliorer le commerce. Le
 pont est construit a partir de 1677, mais n'a pas resiste aux crues
 du Var et n'existe plus en 1700. Un nouveau pont avait ete construit,
 mais il s'effondre en 1829. Il a ete remplace par le pont suspendu
 construit a partir de 1849, jusqu'a sa reception en novembre
 1852</em></p>
 
 <p><span
 style="font-size:12pt;"><span><span>--------------------------------------------------------------------------</span></span></span></p>
 
 <p><span
 style="font-size:14px;"><span>Meteo previsionnelle pour vendredi :
 couvert, 13° et vent fort<br>
 <b>Depart a 8:00 de
 RLP</b><br>
 Covoiturage 88 km, 30 € / vehicule</span></span></p>
URL;VALUE=URI:https://www.randoroc4.fr/evenements/2026/03/06/le-collet-st-andre-depuis-le-bord-du-var-2423285
END:VEVENT
END:VCALENDAR
