BEGIN:VCALENDAR
VERSION:2.0
PRODID:-//hacksw/handcal//NONSGML v1.0//EN
BEGIN:VEVENT
SUMMARY:La Peloua et Sommet du Broc par le Vallon de la Sine depuis le Broc
UID:0c6b7ad8-a3ca-4548-88cc-6f2d664a5a74
DTSTART:20260313T080000Z
DTEND:20260313T230000Z
LOCATION:Localisation   
CATEGORIES:Sportif
STATUS:
DESCRIPTION:<p><span style="font-size:11pt;"><span><span
 style="font-family:Calibri, 'sans-serif';"><b><span
 style="font-size:12pt;"><span style="font-family:'Times New Roman',
 serif;">Distance: 10,8 km ; Denivele : 460
 m</span></span></b></span></span></span></p>
 
 <p><span
 style="font-size:12pt;"><span style="font-family:'Times New Roman',
 serif;">Perche sur une avancee de la montagne de Chiers, Le Broc, du
 haut de ses 460 m, domine le confluent du Var et de l’Esteron.
  Depuis ce village qui a conserve son caractere medieval, cette
 randonnee assez facile nous menera sur les plateaux calcaires au
 sud-ouest du village. </span></span></p>
 
 <p><span
 style="font-size:12pt;"><span style="font-family:'Times New Roman',
 serif;">Depart du village du Broc, parking public Cauvin (balise 3,
 altitude 463 m). Montee en pente douce le long du tres agreable
 vallon de La Sine jusqu’a la balise 57 (altitude 802 m). A la
 balise 57, prendre le chemin pour rejoindre la balise 56, aller au
 sommet de La Peloua (895 m) et au sommet du Broc (890 m) en
 aller-retour puis descendre en direction du Broc par la piste
 (balises 32, 31, 30, 35 et 4 ) pour rejoindre les
 voitures.</span></span></p>
 
 <p><span style="font-size:12pt;"><span
 style="font-family:'Times New Roman', serif;">Les panoramas sont
 magnifiques et tres varies. De la Peloua et du sommet du Broc la vue
 est splendide sur les sommets du mont Vial, de l'Argentera et du
 Mercantour et un point de vue unique sur le confluent du Var et de
 l'Esteron situe 700 metres plus bas. Tres beau panorama egalement sur
 les meandres du Var jusqu’a la mer et aussi sur les vieux villages
 du Broc et de Carros.</span></span></p>
 
 <p><span
 style="font-size:12pt;"><span style="font-family:'Times New Roman',
 serif;">Randonnee menee par Christian</span></span></p>
 
 <p><span
 style="font-size:11pt;"><span><span style="font-family:Calibri,
 'sans-serif';"><span style="font-size:12pt;"><span
 style="font-family:'Times New Roman',
 serif;">--------------------------------------------------------------------------</span></span></span></span></span></p>
 
 <p><span
 style="font-size:14px;"><span style="font-family:Calibri,
 'sans-serif';"><span style="font-family:'Times New Roman',
 serif;">Meteo previsionnelle pour vendredi : couvert avec quelques
 eclaircies, environ 12°C<br>
 <b>Depart a 9:00 de
 RLP</b><br>
 Covoiturage 74 km+autoroute, 27€ /
 vehicule</span></span></span></p>
 
 <p> </p>
URL;VALUE=URI:https://www.randoroc4.fr/evenements/2026/03/13/la-peloua-et-sommet-du-broc-par-le-vallon-de-la-sine-depuis-le-broc-2425809
END:VEVENT
END:VCALENDAR
