BEGIN:VCALENDAR
VERSION:2.0
PRODID:-//hacksw/handcal//NONSGML v1.0//EN
BEGIN:VEVENT
SUMMARY:La montagne de Thorenc depuis le col de Bleine par le pic de l'Aiglo
UID:4745a736-8644-4de0-8713-2152097f7967
DTSTART:20260320T080000Z
DTEND:20260320T230000Z
LOCATION:Localisation   
CATEGORIES:Sportif
STATUS:
DESCRIPTION:<p><span style="font-size:11pt;"><span><span
 style="font-family:Calibri, 'sans-serif';"><b><span
 style="font-size:10pt;"><span style="font-family:Arial,
 'sans-serif';">Distance: 10 km ; Denivele : 510
 m</span></span></b></span></span></span></p>
 
 <p><span
 style="font-size:11pt;"><span><span style="font-family:Calibri,
 'sans-serif';"><span style="font-size:10pt;"><span
 style="font-family:Arial, 'sans-serif';">L’ascension du pic de
 l’Aiglo, l’un des points hauts de l’Estéron, apportera la
 satisfaction de dominer les environs et offre de magnifiques
 panoramas sur la plaine de Thorenc et la Réserve des Monts
 d’Azur.</span></span></span></span></span></p>
 
 <p><span
 style="font-size:11pt;"><span><span style="font-family:Calibri,
 'sans-serif';"><span style="font-size:10pt;"><span
 style="font-family:Arial, 'sans-serif';">Intérêt historique avec
 la stèle apposée à la mémoire des membres de l’équipage
 d’un avion américain tombé sur le Pic de l’Aiglo en mai
 1944.</span></span></span></span></span></p>
 
 <p><span
 style="font-size:11pt;"><span><span style="font-family:Calibri,
 'sans-serif';"><span style="font-size:10pt;"><span
 style="font-family:Arial, 'sans-serif';">Du col, balise 104 (col de
 Bleine), direction pics de l'Aiglo, de Fourneuby, Greolieres les
 Neiges  dans la foret de coniferes pour rejoindre la crete de la
 montagne de Thorenc.<br>
 <br>
 Continuer meme direction jusqu'au pic
 de l'Aiglo a 1648m. </span></span><span style="font-size:10pt;"><span
 style="font-family:Arial, 'sans-serif';">Au sommet, la vue est tout
 simplement magique!! Un panorama a 360°.
 </span></span></span></span></span></p>
 
 <p><span
 style="font-size:11pt;"><span><span style="font-family:Calibri,
 'sans-serif';"><span style="font-size:10pt;"><span
 style="font-family:Arial, 'sans-serif';">Au Sud, le Castellaras, tout
 le massif de la Mouliere, l'Audibergue, un peu plus bas la Montagne
 du Thiey, plus a gauche La Colle du Macon, le haut Montet et bien sur
 le plateau et la Montagne de
 Calern.</span></span></span></span></span></p>
 
 <p><span
 style="font-size:12pt;"><span style="font-family:'Times New Roman',
 serif;"><span style="font-size:10pt;"><span style="font-family:Arial,
 'sans-serif';">Au Nord, le Mercantour! Juste devant, la masse
 impressionnante de la montagne de Charamel avec tout au bout,
 l'Arpille et a nos pieds le village Le Mas. Legerement a gauche, St
 Auban, la barre de Tracastel, le Pensier Oriental et Occidental et un
 peu plus loin le Teillon.</span></span></span></span></p>
 
 <p><span
 style="font-size:11pt;"><span><span style="font-family:Calibri,
 'sans-serif';"><span style="font-size:10pt;"><span
 style="font-family:Arial, 'sans-serif';">Poursuivre le chemin qui, en
 montant et descendant, suit plus ou moins la ligne de crete vers le
 pas de l'Estable.</span></span></span></span></span></p>
 
 <p><span
 style="font-size:11pt;"><span><span style="font-family:Calibri,
 'sans-serif';"><span style="font-size:10pt;"><span
 style="font-family:Arial, 'sans-serif';">Retour par le meme chemin
 avec une petite variante dans l'ubac entre les cotes 1562 (citerne)
 et 1537. Possibilite de raccourcir un peu si necessaire puisque
 c’est un AR</span></span></span></span></span></p>
 
 <p><span
 style="font-size:11pt;"><span><span style="font-family:Calibri,
 'sans-serif';"><span style="font-size:10pt;"><span
 style="font-family:Arial, 'sans-serif';">Randonnee menee par
 Brice</span></span></span></span></span></p>
 
 <p><span
 style="font-size:11pt;"><span><span style="font-family:Calibri,
 'sans-serif';"><span style="font-size:10pt;"><span
 style="font-family:Arial,
 'sans-serif';">--------------------------------------------------------------------------</span></span></span></span></span></p>
 
 <p><span
 style="font-size:10pt;"><span><span style="font-family:Arial,
 'sans-serif';">Meteo previsionnelle pour vendredi : journee plutot
 ensoleillee mais qui se couvre dans l’apres-midi, entre 8 et
 11°C</span></span></span><br>
 <span
 style="font-size:11pt;"><span><span style="font-family:Calibri,
 'sans-serif';"><span style="font-size:10pt;"><span
 style="font-family:Arial, 'sans-serif';"><b>Depart a 9:00 de
 RLP</b><br>
 Covoiturage 90 km, 30€ /
 vehicule</span></span></span></span></span></p>
 
 <p> </p>
URL;VALUE=URI:https://www.randoroc4.fr/evenements/2026/03/20/la-montagne-de-thorenc-depuis-le-col-de-bleine-par-le-pic-de-laiglo-2429564
END:VEVENT
END:VCALENDAR
