BEGIN:VCALENDAR
VERSION:2.0
PRODID:-//hacksw/handcal//NONSGML v1.0//EN
BEGIN:VEVENT
SUMMARY:Tour de l'Ubac des Brainees, la Montagne des Louquiers et la Cascade de Clars
UID:c9db6c1a-85b4-4c8e-8ad0-5d3928e47854
DTSTART:20260327T074500Z
DTEND:20260327T230000Z
LOCATION:Localisation   
CATEGORIES:Sportif
STATUS:
DESCRIPTION:<p><span style="font-size:11pt;"><span><span
 style="font-family:Calibri, 'sans-serif';"><b><span
 style="font-size:10pt;"><span style="font-family:Arial,
 'sans-serif';">Distance: 12.1 km ; Denivele : 535
 m</span></span></b></span></span></span></p>
 
 <p><span
 style="font-size:11pt;"><span><span style="font-family:Calibri,
 'sans-serif';">Je vous propose une belle randonnee sans difficulte
 dans l'arriere pays grassois : a<strong><span
 style="font-family:Calibri, 'sans-serif';"><span
 style="font-weight:normal;">u programme, megalithes, magnifique point
 de vue sur toute la cote et pour finir une superbe chute d’eau dans
 un cadre exceptionnel en </span></span></strong>alternant foret
 mediterraneenne et paysages
 karstiques.</span></span></span></p>
 
 <p><span
 style="font-size:11pt;"><span><span style="font-family:Calibri,
 'sans-serif';">Au depart des Galants a Escragnolles, nous
 commencerons la boucle de l’ubac des Brainees. Apres une petite
 descente, debute la <strong><span style="font-family:Calibri,
 'sans-serif';"><span style="font-weight:normal;">montee. Le paysage
 se decouvre et on beneficie petit a petit d’une tres belle vue sur
 la vallee et les montagnes environnantes. Nous traverserons ensuite
 la riviere sur le pont romain du Ray puis nous decouvrirons le Dolmen
 de Brainee</span></span></strong><b>.</b> Nous continuerons
 <strong><span style="font-family:Calibri, 'sans-serif';"><span
 style="font-weight:normal;">la montee jusqu’au sommet des Louquiers
 (</span></span></strong>1 138m) <span style="font-family:Calibri,
 'sans-serif';"><span
 style="font-weight:normal;"> </span></span><strong><span
 style="font-family:Calibri, 'sans-serif';"><span
 style="font-weight:normal;">et une fois arrive en haut, la vue est
 magnifique. A 360° on peut observer les montagnes environnantes,
 mais aussi la cote de Cannes a Saint Raphael (par temps
 clair)</span></span></strong><b>.</b> Nous reviendrons sur nos pas et
 reprendrons la boucle de l’ubac des Brainees avec au passage la
 visite du dolmen de la Colle. Nous traverserons le ruisseau du Ray
 (gue facile reconnu ce matin) et p<strong><span
 style="font-family:Calibri, 'sans-serif';"><span
 style="font-weight:normal;">our finir nous admirerons la magnifique
 cascade de
 Clars.</span></span></strong></span></span></span></p>
 
 <p><span
 style="font-size:11pt;"><span><span style="font-family:Calibri,
 'sans-serif';"><span style="font-size:10pt;"><span
 style="font-family:Arial, 'sans-serif';">Randonnee menee par
 Christian</span></span></span></span></span></p>
 
 <p><span
 style="font-size:11pt;"><span><span style="font-family:Calibri,
 'sans-serif';"><span style="font-size:10pt;"><span
 style="font-family:Arial,
 'sans-serif';">--------------------------------------------------------------------------</span></span></span></span></span></p>
 
 <p><span
 style="font-size:11pt;"><span><span style="font-family:Calibri,
 'sans-serif';"><span style="font-size:10pt;"><span
 style="font-family:Arial, 'sans-serif';">Meteo previsionnelle pour
 vendredi : journee plutot ensoleillee  avec quelques passages
 nuageux, 8°C maximum (pensez a bien vous couvrir).<br>
 <b>Depart a
 8:45 de RLP</b><br>
 Covoiturage 86 km, 28€ /
 vehicule</span></span></span></span></span></p>
URL;VALUE=URI:https://www.randoroc4.fr/evenements/2026/03/27/tour-de-lubac-des-brainees-la-montagne-des-louquiers-et-la-cascade-de-clars-2432407
END:VEVENT
END:VCALENDAR
