BEGIN:VCALENDAR
VERSION:2.0
PRODID:-//hacksw/handcal//NONSGML v1.0//EN
BEGIN:VEVENT
SUMMARY:Plateau de Caussols et Haut Montet
UID:ec874b1f-1de4-408e-ac7b-bd6912ae67bc
DTSTART:20260403T070000Z
DTEND:20260403T220000Z
LOCATION:Localisation   
CATEGORIES:Sportif
STATUS:
DESCRIPTION:<p><span style="font-size:11pt;"><span><span
 style="font-family:Calibri, 'sans-serif';"><b><span
 style="font-size:10pt;"><span style="font-family:Arial,
 'sans-serif';">Distance: 14 km ; Denivele : 350
 m</span></span></b></span></span></span></p>
 
 <p
 style="text-align:justify;"><span style="font-size:11pt;"><span><span
 style="font-family:Calibri, 'sans-serif';"><span
 style="font-size:10pt;"><span><span style="font-family:Arial,
 'sans-serif';">Brice vous propose une randonnee facile en boucle un
 peu longue mais avec peu de denivele sur le plateau de Caussols. Nous
 pourrons decouvrir les richesses naturelles et les pratiques
 agro-pastorales d’un plateau calcaire grace a cette randonnee a
 travers le relief karstique, faconne par l’erosion et l’elevage,
 jalonne de cabanes en pierre seche et d’enclos, entre Calern et les
 hauteurs du Montet.</span></span></span></span></span></span></p>
 
 <p
 style="text-align:justify;"><span style="font-size:11pt;"><span><span
 style="font-family:Calibri, 'sans-serif';"><span
 style="font-size:10pt;"><span style="font-family:Arial,
 'sans-serif';">Nous partirons du parking de la mairie de Caussols
 pour monter vers l</span></span><span style="font-size:10pt;"><span
 style="font-family:Arial, 'sans-serif';">e col du Clapier (1257 m) ou
 de la Femme morte (<span>ruines d’une ancienne bergerie et d’un
 enclos mais aussi une magnifique borie)</span>. Apres une courte
 descente, nous monterons a nouveau vers le Haut Montet, remarquable
 belvedere dominant Caussols et l’ouest de la Cote d’Azur. Nous
 commencerons alors notre descente pour retourner vers Caussols. Au
 passage, nous apercevrons plusieurs bergeries et des paturages. Sur
 le plateau de Caussols, il y a aussi une multitude d’avens et nous
 essaierons d’en voir au moins un au passage. Si les jambes ne sont
 pas trop lourdes, juste avant l’arrivee aux voitures, un petit
 aller/retour facultatif pourrait nous permettre de voir l’Embut de
 Caussols. C’est  une cavite naturelle qui absorbe les eaux de
 surface de la plaine. Lors de pluies tres intenses, il se forme un
 lac temporaire, rapidement vidange par
 l'embut</span></span></span></span></span></p>
 
 <p><span
 style="font-size:11pt;"><span><span style="font-family:Calibri,
 'sans-serif';"><span style="font-size:10pt;"><span
 style="font-family:Arial, 'sans-serif';">Randonnee menee par
 Brice</span></span></span></span></span></p>
 
 <p><span
 style="font-size:11pt;"><span><span style="font-family:Calibri,
 'sans-serif';"><span style="font-size:10pt;"><span
 style="font-family:Arial,
 'sans-serif';">--------------------------------------------------------------------------</span></span></span></span></span></p>
 
 <p><span
 style="font-size:11pt;"><span><span style="font-family:Calibri,
 'sans-serif';"><span style="font-size:10pt;"><span
 style="font-family:Arial, 'sans-serif';">Meteo previsionnelle pour
 vendredi : journee ensoleille, entre 11 et 14°C<br>
 <b>Depart a 9:00
 de RLP</b><br>
 Covoiturage 54 km, 18€ /
 vehicule</span></span></span></span></span></p>
URL;VALUE=URI:https://www.randoroc4.fr/evenements/2026/04/03/plateau-de-caussols-et-haut-montet-2436233
END:VEVENT
END:VCALENDAR
