BEGIN:VCALENDAR
VERSION:2.0
PRODID:-//hacksw/handcal//NONSGML v1.0//EN
BEGIN:VEVENT
SUMMARY:la Pointe du Castellar & le col du dragon depuis Levens
UID:6ee9ecd0-e904-4352-b220-f3d3507069da
DTSTART:20260410T070000Z
DTEND:20260410T160000Z
LOCATION:Localisation   
CATEGORIES:Sportif
STATUS:
DESCRIPTION:<p><span style="font-size:12pt;"><span><span><b>Distance:
 10,3 km ; Denivele : 640
 m</b></span></span></span></p>
 
 <p><em>Excusez moi pour le retard de
 diffusion, la journee d'aujourd'hui n'ayant ete qu'une succession
 d'imprevus et de distractions (pas dans le sens loisir du terme
 !!).</em></p>
 
 <p>Pour vendredi je vous propose de partir de Levens
 et de monter a la pointe du Castellar, moins connue que le mont
 Ferion mais avec une grande partie en crete et egalement un beau
 point de vue (dixit la carte IGN).</p>
 
 <p>Randonnee sans difficultes
 particulieres.<br>
 Et n'oubliez pas les chapeaux</p>
 
 <p><span
 style="font-size:12pt;"><span><span>--------------------------------------------------------------------------</span></span></span></p>
 
 <p><span
 style="font-size:14px;"><span>Meteo previsionnelle pour vendredi :
 grand soleil et 20°<br>
 <b>Depart a 9:00 de RLP</b><br>
 Covoiturage
 94 km, 32 € / vehicule</span></span></p>
URL;VALUE=URI:https://www.randoroc4.fr/evenements/2026/04/10/la-pointe-du-castellar-le-col-du-dragon-depuis-levens-2439335
END:VEVENT
END:VCALENDAR
