BEGIN:VCALENDAR
VERSION:2.0
PRODID:-//hacksw/handcal//NONSGML v1.0//EN
BEGIN:VEVENT
SUMMARY:d'Eze-gare au Cap d'Ail en passant par la Turbie et Monaco
UID:4058ddf3-1496-4043-83d3-8d2fd689dac0
DTSTART:20260417T050000Z
DTEND:20260417T160000Z
LOCATION:Localisation   
CATEGORIES:Sportif
STATUS:
DESCRIPTION:<p><span style="font-size:12pt;"><span><span><b>Distance:
 14,5 km ; Denivele : 730 m</b></span></span></span></p>
 
 <p><span
 style="font-size:14px;">Nous prendrons le train de 8:00 a
 Villeneuve-Loubet plage pour aller a Eze plage.<br>
 De la, debut de
 notre randonnee, nous monterons le sentier Nietzsche pour atteindre
 le village d'Eze et continuerons en direction du fort de la Revere,
 sommet de notre randonnee.<br>
 Puis nous surplomberons la cote par la
 route strategique, irons jusqu'a La Turbie et plongerons sur Monaco
 et le port de Fontvieille avant de revenir en bord de mer par le cap
 d'Ail et atteindre la gare du meme nom. <br>
 Reprenant le train,
 nous reviendrons alors a Villeneuve-Loubet
 plage.</span></p>
 
 <p><span style="font-size:14px;">Cette randonnee
 que nous avions faite en 2024 en revenant par le village de Cap d'Ail
 plutot que Monaco s'annonce magnifique avec des paysages
 spectaculaires.<br>
 Il n'y a pas de difficultes techniques, si ce
 n'est la distance et le denivele et la cravate n'est pas necessaire
 pour traverser Monaco 😉</span></p>
 
 <p><span
 style="font-size:12pt;"><span><span>--------------------------------------------------------------------------</span></span></span></p>
 
 <p><span
 style="font-size:14px;"><span>Meteo previsionnelle pour vendredi :
 ensoleille et 20°<br>
 <b>Depart a 7:00 de RLP pour prendre le train
 de 8:00 a la gare de Villeneuve-Loubet plage</b><br>
 Covoiturage 35
 km, 12 € / vehicule + le prix du train (nous essaierons d'avoir un
 tarif groupe)</span></span></p>
URL;VALUE=URI:https://www.randoroc4.fr/evenements/2026/04/17/deze-gare-au-cap-dail-en-passant-par-la-turbie-et-monaco-2441324
END:VEVENT
END:VCALENDAR
