BEGIN:VCALENDAR
VERSION:2.0
PRODID:-//hacksw/handcal//NONSGML v1.0//EN
BEGIN:VEVENT
SUMMARY:La cime de Castel Vieil depuis Roquebilliere
UID:dfc6c7fc-5199-4f47-8238-3f6376a5a9c8
DTSTART:20260424T060000Z
DTEND:20260424T160000Z
LOCATION:Localisation   
CATEGORIES:Sportif
STATUS:
DESCRIPTION:<p><span style="font-size:12pt;"><span><span><b>Distance:
 10 km ; Denivele : 735 m</b></span></span></span></p>
 
 <p>Partant du
 village de Roquebilliere nous monterons par des chemins detournes
 jusqu'a la cime de Castel Vieil ou nous dejeunerons au soleil en
 profitant du panorama sur la haute vallee de la Vesubie et les
 sommets du Mercantour.<br>
 Puis nous redescendrons par le sentier
 direct jusqu'a l'eglise des Templiers puis le village.</p>
 
 <p><span
 style="font-size:12pt;"><span><span>--------------------------------------------------------------------------</span></span></span></p>
 
 <p><span
 style="font-size:14px;"><span>Meteo previsionnelle pour vendredi :
 grans soleil et 20°<br>
 <b>Depart a 8:00 de
 RLP </b><br>
 Covoiturage 134 km, 46 € / vehicule</span></span></p>
URL;VALUE=URI:https://www.randoroc4.fr/evenements/2026/04/24/la-cime-de-castel-vieil-depuis-roquebilliere-2443787
END:VEVENT
END:VCALENDAR
